BEGIN:VCALENDAR
VERSION:2.0
PRODID:-//Toronto Mendelssohn Choir - ECPv6.15.17.1//NONSGML v1.0//EN
CALSCALE:GREGORIAN
METHOD:PUBLISH
X-WR-CALNAME:Toronto Mendelssohn Choir
X-ORIGINAL-URL:https://www.tmchoir.org
X-WR-CALDESC:Events for Toronto Mendelssohn Choir
REFRESH-INTERVAL;VALUE=DURATION:PT1H
X-Robots-Tag:noindex
X-PUBLISHED-TTL:PT1H
BEGIN:VTIMEZONE
TZID:America/Toronto
BEGIN:DAYLIGHT
TZOFFSETFROM:-0500
TZOFFSETTO:-0400
TZNAME:EDT
DTSTART:20250309T070000
END:DAYLIGHT
BEGIN:STANDARD
TZOFFSETFROM:-0400
TZOFFSETTO:-0500
TZNAME:EST
DTSTART:20251102T060000
END:STANDARD
BEGIN:DAYLIGHT
TZOFFSETFROM:-0500
TZOFFSETTO:-0400
TZNAME:EDT
DTSTART:20260308T070000
END:DAYLIGHT
BEGIN:STANDARD
TZOFFSETFROM:-0400
TZOFFSETTO:-0500
TZNAME:EST
DTSTART:20261101T060000
END:STANDARD
BEGIN:DAYLIGHT
TZOFFSETFROM:-0500
TZOFFSETTO:-0400
TZNAME:EDT
DTSTART:20270314T070000
END:DAYLIGHT
BEGIN:STANDARD
TZOFFSETFROM:-0400
TZOFFSETTO:-0500
TZNAME:EST
DTSTART:20271107T060000
END:STANDARD
END:VTIMEZONE
BEGIN:VEVENT
DTSTART;TZID=America/Toronto:20260324T190000
DTEND;TZID=America/Toronto:20260325T190000
DTSTAMP:20260419T203906
CREATED:20250410T203017Z
LAST-MODIFIED:20260327T164131Z
UID:13439-1774378800-1774465200@www.tmchoir.org
SUMMARY:Bach: St. Matthew Passion
DESCRIPTION:In this performance\nSt. Matthew Passion by Johann Sebastian Bach\n \nRuntime: 3 hr 10 min\, including one 20-minute intermission. Read the house program here. \nOn the music\nBach’s St. Matthew Passion is a monumental work of drama\, devotion\, and unparalleled musical genius. With its soul-stirring arias\, intricately woven chorales\, and emotionally charged narrative\, this spiritual masterpiece remains one of the greatest choral works ever written. Under the baton of Jean-Sébastien Vallée\, the Toronto Mendelssohn Choir\, along with exceptional soloists and instrumentalists\, brings Bach’s timeless music to life in a profoundly iconic performance.  \nBuy Tickets – Mar 24  \nBuy Tickets – Mar 25 \nAbout the Artwork\nThe Embrace by Fabrizio Sclocco. Fabrizio Sclocco’s work interrogates the fluidity of identity and the complexities of selfhood. His paintings depict figures that resist conventional categorization\, occupying a space between vulnerability and strength.
URL:https://www.tmchoir.org/event/st-matthew-passion/
LOCATION:Koerner Hall\, TELUS Centre For Performance And Learning\, 273 Bloor St W\, \, ON\, Toronto\, Ontario\, M5S 1V6\, Canada
CATEGORIES:2025-26
ATTACH;FMTTYPE=image/jpeg:https://www.tmchoir.org/wp-content/uploads/2025/04/3.jpg
END:VEVENT
END:VCALENDAR