BEGIN:VCALENDAR
VERSION:2.0
PRODID:-//Toronto Mendelssohn Choir - ECPv6.15.17.1//NONSGML v1.0//EN
CALSCALE:GREGORIAN
METHOD:PUBLISH
X-ORIGINAL-URL:https://www.tmchoir.org
X-WR-CALDESC:Events for Toronto Mendelssohn Choir
REFRESH-INTERVAL;VALUE=DURATION:PT1H
X-Robots-Tag:noindex
X-PUBLISHED-TTL:PT1H
BEGIN:VTIMEZONE
TZID:America/Toronto
BEGIN:DAYLIGHT
TZOFFSETFROM:-0500
TZOFFSETTO:-0400
TZNAME:EDT
DTSTART:20220313T070000
END:DAYLIGHT
BEGIN:STANDARD
TZOFFSETFROM:-0400
TZOFFSETTO:-0500
TZNAME:EST
DTSTART:20221106T060000
END:STANDARD
BEGIN:DAYLIGHT
TZOFFSETFROM:-0500
TZOFFSETTO:-0400
TZNAME:EDT
DTSTART:20230312T070000
END:DAYLIGHT
BEGIN:STANDARD
TZOFFSETFROM:-0400
TZOFFSETTO:-0500
TZNAME:EST
DTSTART:20231105T060000
END:STANDARD
BEGIN:DAYLIGHT
TZOFFSETFROM:-0500
TZOFFSETTO:-0400
TZNAME:EDT
DTSTART:20240310T070000
END:DAYLIGHT
BEGIN:STANDARD
TZOFFSETFROM:-0400
TZOFFSETTO:-0500
TZNAME:EST
DTSTART:20241103T060000
END:STANDARD
END:VTIMEZONE
BEGIN:VEVENT
DTSTART;TZID=America/Toronto:20231205T193000
DTEND;TZID=America/Toronto:20231206T193000
DTSTAMP:20260423T155950
CREATED:20230428T000916Z
LAST-MODIFIED:20240115T195514Z
UID:11309-1701804600-1701891000@www.tmchoir.org
SUMMARY:Festival of Carols
DESCRIPTION:In this performance\nTraditional carols and newly composed works. \nOn the music\nRing in the holiday season with the Toronto Mendelssohn Choir and its beloved annual celebration of music: the Festival of Carols. Under the direction of Maestro Jean-Sébastien Vallée\, this dazzling performance is bound to fill your heart and make your spirits soar as you sing along to classics like Silent Night\, Angels We Have Heard on High\, and O Come\, All Ye Faithful. A heartwarming experience for all ages! \n  \nWe’re bringing the TMChoir to you!\nHighlights of this concert will be available for free On Demand beginning on Friday\, December 8th at 7:30pm.
URL:https://www.tmchoir.org/event/festival-of-carols-2023/
LOCATION:Yorkminster Park Baptist Church\, 1585 Yonge St.\, Toronto\, Ontario\, M4T 1Z9\, Canada
CATEGORIES:2023-24
ATTACH;FMTTYPE=image/jpeg:https://www.tmchoir.org/wp-content/uploads/2023/04/TMChoir_23-24_website_03-festivalofcarols.jpg
END:VEVENT
END:VCALENDAR