BEGIN:VCALENDAR
VERSION:2.0
PRODID:-//Toronto Mendelssohn Choir - ECPv6.15.17.1//NONSGML v1.0//EN
CALSCALE:GREGORIAN
METHOD:PUBLISH
X-ORIGINAL-URL:https://www.tmchoir.org
X-WR-CALDESC:Events for Toronto Mendelssohn Choir
REFRESH-INTERVAL;VALUE=DURATION:PT1H
X-Robots-Tag:noindex
X-PUBLISHED-TTL:PT1H
BEGIN:VTIMEZONE
TZID:America/Toronto
BEGIN:DAYLIGHT
TZOFFSETFROM:-0500
TZOFFSETTO:-0400
TZNAME:EDT
DTSTART:20220313T070000
END:DAYLIGHT
BEGIN:STANDARD
TZOFFSETFROM:-0400
TZOFFSETTO:-0500
TZNAME:EST
DTSTART:20221106T060000
END:STANDARD
BEGIN:DAYLIGHT
TZOFFSETFROM:-0500
TZOFFSETTO:-0400
TZNAME:EDT
DTSTART:20230312T070000
END:DAYLIGHT
BEGIN:STANDARD
TZOFFSETFROM:-0400
TZOFFSETTO:-0500
TZNAME:EST
DTSTART:20231105T060000
END:STANDARD
BEGIN:DAYLIGHT
TZOFFSETFROM:-0500
TZOFFSETTO:-0400
TZNAME:EDT
DTSTART:20240310T070000
END:DAYLIGHT
BEGIN:STANDARD
TZOFFSETFROM:-0400
TZOFFSETTO:-0500
TZNAME:EST
DTSTART:20241103T060000
END:STANDARD
END:VTIMEZONE
BEGIN:VEVENT
DTSTART;TZID=America/Toronto:20230922T193000
DTEND;TZID=America/Toronto:20230923T193000
DTSTAMP:20260423T192049
CREATED:20230427T233330Z
LAST-MODIFIED:20231018T174937Z
UID:11302-1695411000-1695497400@www.tmchoir.org
SUMMARY:In Time - At the Intersection of Music & Dance
DESCRIPTION:In this performance\nDixit Dominus HWV 232 by George Frideric Handel\nChrist lag in Todesbanden BWV 4 by Johann Sebastian Bach\nTo the Hands by Caroline Shaw \nOn the music\nExperience a fusion of music and dance in this mesmerizing evening of baroque masterworks. Presented in collaboration with Compagnie de la Citadelle\, witness a breathtaking combination of grace and elegance as the Toronto Mendelssohn Singers perform Handel’s Dixit Dominus and Bach’s Christ lag in Todesbanden under the direction of Jean-Sébastien Vallée. Let your soul soar with the exuberance of this unforgettable performance that unites choral grandeur and captivating choreography imagined by Laurence Lemieux in a tribute to the strength and resilience of women. \n 
URL:https://www.tmchoir.org/event/in-time-at-the-intersection-of-music-dance/
LOCATION:Jeanne Lamon Hall (Trinity-St. Paul’s Centre)\, 427 Bloor St W\, Toronto\, Ontario\, M5S 1X7
CATEGORIES:2023-24
ATTACH;FMTTYPE=image/jpeg:https://www.tmchoir.org/wp-content/uploads/2023/04/TMChoir_23-24_website_01-intime.jpg
END:VEVENT
END:VCALENDAR