BEGIN:VCALENDAR
VERSION:2.0
PRODID:-//Toronto Mendelssohn Choir - ECPv6.15.17.1//NONSGML v1.0//EN
CALSCALE:GREGORIAN
METHOD:PUBLISH
X-ORIGINAL-URL:https://www.tmchoir.org
X-WR-CALDESC:Events for Toronto Mendelssohn Choir
REFRESH-INTERVAL;VALUE=DURATION:PT1H
X-Robots-Tag:noindex
X-PUBLISHED-TTL:PT1H
BEGIN:VTIMEZONE
TZID:America/Toronto
BEGIN:DAYLIGHT
TZOFFSETFROM:-0500
TZOFFSETTO:-0400
TZNAME:EDT
DTSTART:20220313T070000
END:DAYLIGHT
BEGIN:STANDARD
TZOFFSETFROM:-0400
TZOFFSETTO:-0500
TZNAME:EST
DTSTART:20221106T060000
END:STANDARD
BEGIN:DAYLIGHT
TZOFFSETFROM:-0500
TZOFFSETTO:-0400
TZNAME:EDT
DTSTART:20230312T070000
END:DAYLIGHT
BEGIN:STANDARD
TZOFFSETFROM:-0400
TZOFFSETTO:-0500
TZNAME:EST
DTSTART:20231105T060000
END:STANDARD
BEGIN:DAYLIGHT
TZOFFSETFROM:-0500
TZOFFSETTO:-0400
TZNAME:EDT
DTSTART:20240310T070000
END:DAYLIGHT
BEGIN:STANDARD
TZOFFSETFROM:-0400
TZOFFSETTO:-0500
TZNAME:EST
DTSTART:20241103T060000
END:STANDARD
END:VTIMEZONE
BEGIN:VEVENT
DTSTART;TZID=America/Toronto:20230204T193000
DTEND;TZID=America/Toronto:20230204T213000
DTSTAMP:20260421T081543
CREATED:20230118T164451Z
LAST-MODIFIED:20230209T202533Z
UID:10977-1675539000-1675546200@www.tmchoir.org
SUMMARY:Exchange: Community Singing Festival
DESCRIPTION:NEW FOR 2023\nCommunity Singing Festival\n22.23 ushers in the launch of this new program\, where we will host three high school choirs\, plus their friends and families\, for a one-day non-competitive singing festival and showcase presentation. We will celebrate our ability to sing together again\, in a day of collaboration\, learning\, and community connection. \n\nFebruary 4\, 2023 at 7:30PM\nYorkminster Park Baptist Church\n  \n  \nParticipating Schools: \nAgincourt Collegiate Institute – Amanda Tulk-O’Reilly\, director \nO’Neill Collegiate and Vocational Institute – Erin Collins\, director \n\n\n 
URL:https://www.tmchoir.org/event/exchange-festival/
LOCATION:Yorkminster Park Baptist Church\, 1585 Yonge St.\, Toronto\, Ontario\, M4T 1Z9\, Canada
CATEGORIES:2022-23
ATTACH;FMTTYPE=image/jpeg:https://www.tmchoir.org/wp-content/uploads/2023/01/TMChoir_eventbanner_Exchange-02.jpg
END:VEVENT
END:VCALENDAR