BEGIN:VCALENDAR
VERSION:2.0
PRODID:-//Toronto Mendelssohn Choir - ECPv6.15.17.1//NONSGML v1.0//EN
CALSCALE:GREGORIAN
METHOD:PUBLISH
X-ORIGINAL-URL:https://www.tmchoir.org
X-WR-CALDESC:Events for Toronto Mendelssohn Choir
REFRESH-INTERVAL;VALUE=DURATION:PT1H
X-Robots-Tag:noindex
X-PUBLISHED-TTL:PT1H
BEGIN:VTIMEZONE
TZID:America/Toronto
BEGIN:DAYLIGHT
TZOFFSETFROM:-0500
TZOFFSETTO:-0400
TZNAME:EDT
DTSTART:20210314T070000
END:DAYLIGHT
BEGIN:STANDARD
TZOFFSETFROM:-0400
TZOFFSETTO:-0500
TZNAME:EST
DTSTART:20211107T060000
END:STANDARD
BEGIN:DAYLIGHT
TZOFFSETFROM:-0500
TZOFFSETTO:-0400
TZNAME:EDT
DTSTART:20220313T070000
END:DAYLIGHT
BEGIN:STANDARD
TZOFFSETFROM:-0400
TZOFFSETTO:-0500
TZNAME:EST
DTSTART:20221106T060000
END:STANDARD
BEGIN:DAYLIGHT
TZOFFSETFROM:-0500
TZOFFSETTO:-0400
TZNAME:EDT
DTSTART:20230312T070000
END:DAYLIGHT
BEGIN:STANDARD
TZOFFSETFROM:-0400
TZOFFSETTO:-0500
TZNAME:EST
DTSTART:20231105T060000
END:STANDARD
END:VTIMEZONE
BEGIN:VEVENT
DTSTART;TZID=America/Toronto:20221102T200000
DTEND;TZID=America/Toronto:20221102T223000
DTSTAMP:20260421T130430
CREATED:20220727T205719Z
LAST-MODIFIED:20221111T190837Z
UID:10354-1667419200-1667428200@www.tmchoir.org
SUMMARY:Mendelssohn's Elijah
DESCRIPTION:In This Performance\nElijah\, Op. 70 by Felix Mendelssohn \nOn the music\nWitness the tour de force that is Felix Mendelssohn’s Elijah\, in the grandest of settings at Roy Thomson Hall. This latest collaboration between the Toronto Mendelssohn Choir\, the University of Toronto’s MacMillan Singers\, and the Toronto Symphony Orchestra combines 200 of Canada’s foremost choral and orchestral talent. Led by Maestro Jean-Sébastien Vallée\, world-renowned bass-baritone Russell Braun alongside soloists from the Toronto Mendelssohn Singers delivers a moving performance of this extraordinary work! \n\n\n 
URL:https://www.tmchoir.org/event/mendelssohn-elijah/
LOCATION:Roy Thomson Hall\, 60 Simcoe St\, Toronto\, Ontario\, M5J 2H5\, Canada
CATEGORIES:2022-23
ATTACH;FMTTYPE=image/png:https://www.tmchoir.org/wp-content/uploads/2022/07/Asset-4.png
END:VEVENT
END:VCALENDAR