BEGIN:VCALENDAR
VERSION:2.0
PRODID:-//Toronto Mendelssohn Choir - ECPv6.15.17.1//NONSGML v1.0//EN
CALSCALE:GREGORIAN
METHOD:PUBLISH
X-WR-CALNAME:Toronto Mendelssohn Choir
X-ORIGINAL-URL:https://www.tmchoir.org
X-WR-CALDESC:Events for Toronto Mendelssohn Choir
REFRESH-INTERVAL;VALUE=DURATION:PT1H
X-Robots-Tag:noindex
X-PUBLISHED-TTL:PT1H
BEGIN:VTIMEZONE
TZID:America/Toronto
BEGIN:DAYLIGHT
TZOFFSETFROM:-0500
TZOFFSETTO:-0400
TZNAME:EDT
DTSTART:20210314T070000
END:DAYLIGHT
BEGIN:STANDARD
TZOFFSETFROM:-0400
TZOFFSETTO:-0500
TZNAME:EST
DTSTART:20211107T060000
END:STANDARD
BEGIN:DAYLIGHT
TZOFFSETFROM:-0500
TZOFFSETTO:-0400
TZNAME:EDT
DTSTART:20220313T070000
END:DAYLIGHT
BEGIN:STANDARD
TZOFFSETFROM:-0400
TZOFFSETTO:-0500
TZNAME:EST
DTSTART:20221106T060000
END:STANDARD
BEGIN:DAYLIGHT
TZOFFSETFROM:-0500
TZOFFSETTO:-0400
TZNAME:EDT
DTSTART:20230312T070000
END:DAYLIGHT
BEGIN:STANDARD
TZOFFSETFROM:-0400
TZOFFSETTO:-0500
TZNAME:EST
DTSTART:20231105T060000
END:STANDARD
END:VTIMEZONE
BEGIN:VEVENT
DTSTART;TZID=America/Toronto:20221001T193000
DTEND;TZID=America/Toronto:20221001T210000
DTSTAMP:20260421T143714
CREATED:20220727T191306Z
LAST-MODIFIED:20221004T144511Z
UID:10322-1664652600-1664658000@www.tmchoir.org
SUMMARY:The Pilgrim’s Way
DESCRIPTION:In This Performance\nSteal Away arr. by Diedre Robinson\nI Forgive by Shireen Abu-Khader\nLux Aeterna by Edward Elgar arr. by John Cameron \nPath of Miracles by Joby Talbot \nOn the music\nCentred on Joby Talbot’s Path of Miracles\, this concert explores the narrative of displacement\, identity\, and individual life’s journeys. Talbot’s masterwork for a cappella voices is a musical pilgrimage describing a journey on the Camino de Santiago. Through its four contrasting movements based on the main posts of the Camino (Roncesvalles\, Burgos\, León\, and Santiago) the music leads the listener on a unique reflective experience. Complemented by the work I Forgive by composer-in-residence Shireen Abu Khader\, which tells the powerful story of Egyptian writer and activist Sarah Hejazi\, this concert is a powerful celebration of the multiple journeys and identities that make up our communities. \n\n\n 
URL:https://www.tmchoir.org/event/the-pilgrims-way/
LOCATION:Jeanne Lamon Hall (Trinity-St. Paul’s Centre)\, 427 Bloor St W\, Toronto\, Ontario\, M5S 1X7
CATEGORIES:2022-23
ATTACH;FMTTYPE=image/png:https://www.tmchoir.org/wp-content/uploads/2022/07/pilgrims-way-title.png
END:VEVENT
END:VCALENDAR